BEGIN:VCALENDAR
VERSION:2.0
PRODID:-//Schachjugend-Ruhrgebiet - ECPv6.15.20//NONSGML v1.0//EN
CALSCALE:GREGORIAN
METHOD:PUBLISH
X-WR-CALNAME:Schachjugend-Ruhrgebiet
X-ORIGINAL-URL:https://schachjugend-ruhrgebiet.de
X-WR-CALDESC:Veranstaltungen für Schachjugend-Ruhrgebiet
REFRESH-INTERVAL;VALUE=DURATION:PT1H
X-Robots-Tag:noindex
X-PUBLISHED-TTL:PT1H
BEGIN:VTIMEZONE
TZID:Europe/Berlin
BEGIN:DAYLIGHT
TZOFFSETFROM:+0100
TZOFFSETTO:+0200
TZNAME:CEST
DTSTART:20230326T010000
END:DAYLIGHT
BEGIN:STANDARD
TZOFFSETFROM:+0200
TZOFFSETTO:+0100
TZNAME:CET
DTSTART:20231029T010000
END:STANDARD
BEGIN:DAYLIGHT
TZOFFSETFROM:+0100
TZOFFSETTO:+0200
TZNAME:CEST
DTSTART:20240331T010000
END:DAYLIGHT
BEGIN:STANDARD
TZOFFSETFROM:+0200
TZOFFSETTO:+0100
TZNAME:CET
DTSTART:20241027T010000
END:STANDARD
BEGIN:DAYLIGHT
TZOFFSETFROM:+0100
TZOFFSETTO:+0200
TZNAME:CEST
DTSTART:20250330T010000
END:DAYLIGHT
BEGIN:STANDARD
TZOFFSETFROM:+0200
TZOFFSETTO:+0100
TZNAME:CET
DTSTART:20251026T010000
END:STANDARD
BEGIN:DAYLIGHT
TZOFFSETFROM:+0100
TZOFFSETTO:+0200
TZNAME:CEST
DTSTART:20260329T010000
END:DAYLIGHT
BEGIN:STANDARD
TZOFFSETFROM:+0200
TZOFFSETTO:+0100
TZNAME:CET
DTSTART:20261025T010000
END:STANDARD
END:VTIMEZONE
BEGIN:VEVENT
DTSTART;TZID=Europe/Berlin:20241214T140000
DTEND;TZID=Europe/Berlin:20250215T180000
DTSTAMP:20260423T234301
CREATED:20240728T160057Z
LAST-MODIFIED:20240728T160602Z
UID:4628-1734184800-1739642400@schachjugend-ruhrgebiet.de
SUMMARY:3. Runde Verbandsjugendliga / Verbandsjugendklasse
DESCRIPTION:Zur Ausschreibung Verbandsjugendliga \nZur Ausschreibung Verbandsjugendklasse
URL:https://schachjugend-ruhrgebiet.de/turnier/3-runde-verbandsjugendliga-verbandsjugendklasse/
LOCATION:NRW
CATEGORIES:Gruppe 1,Gruppe 2,Jugendverbandsliga
END:VEVENT
END:VCALENDAR