BEGIN:VCALENDAR
VERSION:2.0
PRODID:-//Schachjugend-Ruhrgebiet - ECPv6.15.20//NONSGML v1.0//EN
CALSCALE:GREGORIAN
METHOD:PUBLISH
X-WR-CALNAME:Schachjugend-Ruhrgebiet
X-ORIGINAL-URL:https://schachjugend-ruhrgebiet.de
X-WR-CALDESC:Veranstaltungen für Schachjugend-Ruhrgebiet
REFRESH-INTERVAL;VALUE=DURATION:PT1H
X-Robots-Tag:noindex
X-PUBLISHED-TTL:PT1H
BEGIN:VTIMEZONE
TZID:Europe/Berlin
BEGIN:DAYLIGHT
TZOFFSETFROM:+0100
TZOFFSETTO:+0200
TZNAME:CEST
DTSTART:20230326T010000
END:DAYLIGHT
BEGIN:STANDARD
TZOFFSETFROM:+0200
TZOFFSETTO:+0100
TZNAME:CET
DTSTART:20231029T010000
END:STANDARD
BEGIN:DAYLIGHT
TZOFFSETFROM:+0100
TZOFFSETTO:+0200
TZNAME:CEST
DTSTART:20240331T010000
END:DAYLIGHT
BEGIN:STANDARD
TZOFFSETFROM:+0200
TZOFFSETTO:+0100
TZNAME:CET
DTSTART:20241027T010000
END:STANDARD
BEGIN:DAYLIGHT
TZOFFSETFROM:+0100
TZOFFSETTO:+0200
TZNAME:CEST
DTSTART:20250330T010000
END:DAYLIGHT
BEGIN:STANDARD
TZOFFSETFROM:+0200
TZOFFSETTO:+0100
TZNAME:CET
DTSTART:20251026T010000
END:STANDARD
END:VTIMEZONE
BEGIN:VEVENT
DTSTART;TZID=Europe/Berlin:20240831T093000
DTEND;TZID=Europe/Berlin:20240901T170000
DTSTAMP:20260424T024541
CREATED:20240601T203418Z
LAST-MODIFIED:20240601T203418Z
UID:4553-1725096600-1725210000@schachjugend-ruhrgebiet.de
SUMMARY:Quick-Round-Robin 2024 Bezirk Hamm
DESCRIPTION:Ausschreibung
URL:https://schachjugend-ruhrgebiet.de/turnier/quick-round-robin-2024-bezirk-hamm/
LOCATION:Spielort: Vereinsheim des Hammer SC 08 e.V\, Am Südbad 9\, Hamm\, NRW\, 59069\, Deutschland
END:VEVENT
BEGIN:VEVENT
DTSTART;TZID=Europe/Berlin:20240907T110000
DTEND;TZID=Europe/Berlin:20240907T180000
DTSTAMP:20260424T024541
CREATED:20230905T144838Z
LAST-MODIFIED:20240820T202545Z
UID:4058-1725706800-1725732000@schachjugend-ruhrgebiet.de
SUMMARY:SJR MM U10
DESCRIPTION:Ausschreibung
URL:https://schachjugend-ruhrgebiet.de/turnier/sjr-mm-u10-2/
LOCATION:Lindenbrauerei Unna\, Rio-Reiser-Weg 1\, Unna\, NRW\, 59423\, Deutschland
CATEGORIES:Jugend (Intern),Tagesturnier
END:VEVENT
BEGIN:VEVENT
DTSTART;TZID=Europe/Berlin:20240921T140000
DTEND;TZID=Europe/Berlin:20240921T190000
DTSTAMP:20260424T024541
CREATED:20240728T155334Z
LAST-MODIFIED:20240728T155334Z
UID:4624-1726927200-1726945200@schachjugend-ruhrgebiet.de
SUMMARY:1. Runde Verbandsjugendliga / Verbandsjugendklasse
DESCRIPTION:Zur Ausschreibung Verbandsjugendliga \nZur Ausschreibung Verbandsjugendklasse \n  \n 
URL:https://schachjugend-ruhrgebiet.de/turnier/1-runde-verbandsjugendliga-verbandsjugendklasse/
LOCATION:NRW
CATEGORIES:Gruppe 1,Gruppe 2,Jugendverbandsliga
END:VEVENT
END:VCALENDAR