BEGIN:VCALENDAR
VERSION:2.0
PRODID:-//Schachjugend-Ruhrgebiet - ECPv6.15.20//NONSGML v1.0//EN
CALSCALE:GREGORIAN
METHOD:PUBLISH
X-ORIGINAL-URL:https://schachjugend-ruhrgebiet.de
X-WR-CALDESC:Veranstaltungen für Schachjugend-Ruhrgebiet
REFRESH-INTERVAL;VALUE=DURATION:PT1H
X-Robots-Tag:noindex
X-PUBLISHED-TTL:PT1H
BEGIN:VTIMEZONE
TZID:Europe/Berlin
BEGIN:DAYLIGHT
TZOFFSETFROM:+0100
TZOFFSETTO:+0200
TZNAME:CEST
DTSTART:20240331T010000
END:DAYLIGHT
BEGIN:STANDARD
TZOFFSETFROM:+0200
TZOFFSETTO:+0100
TZNAME:CET
DTSTART:20241027T010000
END:STANDARD
BEGIN:DAYLIGHT
TZOFFSETFROM:+0100
TZOFFSETTO:+0200
TZNAME:CEST
DTSTART:20250330T010000
END:DAYLIGHT
BEGIN:STANDARD
TZOFFSETFROM:+0200
TZOFFSETTO:+0100
TZNAME:CET
DTSTART:20251026T010000
END:STANDARD
BEGIN:DAYLIGHT
TZOFFSETFROM:+0100
TZOFFSETTO:+0200
TZNAME:CEST
DTSTART:20260329T010000
END:DAYLIGHT
BEGIN:STANDARD
TZOFFSETFROM:+0200
TZOFFSETTO:+0100
TZNAME:CET
DTSTART:20261025T010000
END:STANDARD
END:VTIMEZONE
BEGIN:VEVENT
DTSTART;TZID=Europe/Berlin:20250601T110000
DTEND;TZID=Europe/Berlin:20250601T180000
DTSTAMP:20260423T120342
CREATED:20250505T195841Z
LAST-MODIFIED:20250505T195849Z
UID:4977-1748775600-1748800800@schachjugend-ruhrgebiet.de
SUMMARY:Aufstiegsrunde zu U20-Jugend-Verbandsklasse
DESCRIPTION:Ausschreibung
URL:https://schachjugend-ruhrgebiet.de/turnier/aufstiegsrunde-zu-u20-jugend-verbandsklasse/
LOCATION:DRK-Heim Bönen\, Königsholz\, Bönen\, NRW\, 59199\, Germany
CATEGORIES:Jugend (Intern),Tagesturnier
END:VEVENT
BEGIN:VEVENT
DTSTART;TZID=Europe/Berlin:20250607T160000
DTEND;TZID=Europe/Berlin:20250615T100000
DTSTAMP:20260423T120342
CREATED:20250505T195242Z
LAST-MODIFIED:20250505T195242Z
UID:4975-1749312000-1749981600@schachjugend-ruhrgebiet.de
SUMMARY:Deutsche Jugendeinzelmeisterschaften in Willingen
DESCRIPTION:https://www.deutsche-schachjugend.de/2025/dem/ \n 
URL:https://schachjugend-ruhrgebiet.de/turnier/deutsche-jugendeinzelmeisterschaften-in-willingen/
LOCATION:Sauerland Stern Hotel Willingen\, Kneippweg 1\, Willingen\, Hessen\, 34508\, Deutschland
END:VEVENT
BEGIN:VEVENT
DTSTART;VALUE=DATE:20250619
DTEND;VALUE=DATE:20250623
DTSTAMP:20260423T120342
CREATED:20250505T194759Z
LAST-MODIFIED:20250505T194759Z
UID:4973-1750291200-1750636799@schachjugend-ruhrgebiet.de
SUMMARY:NRW Jugendmannschaftsmeisterschaften Finale U12(w)/U14/U16(w)
DESCRIPTION:Ausschreibung
URL:https://schachjugend-ruhrgebiet.de/turnier/nrw-jugendmannschaftsmeisterschaften-finale-u12w-u14-u16w/
LOCATION:NRW
ORGANIZER;CN="Schachjugend-NRW":MAILTO:Spielleiter.Einzel@sjnrw.de
END:VEVENT
BEGIN:VEVENT
DTSTART;VALUE=DATE:20250628
DTEND;VALUE=DATE:20250629
DTSTAMP:20260423T120342
CREATED:20241007T122455Z
LAST-MODIFIED:20250505T185908Z
UID:4707-1751068800-1751155199@schachjugend-ruhrgebiet.de
SUMMARY:Blitzmannschaftsmeisterschaften
DESCRIPTION:
URL:https://schachjugend-ruhrgebiet.de/turnier/blitzmannschaftsmeisterschaften/
LOCATION:NRW
CATEGORIES:Jugend (Intern),Mannschaftsturnier,Tagesturnier
END:VEVENT
END:VCALENDAR